BEGIN:VCALENDAR
VERSION:2.0
PRODID:-//20Fathoms - ECPv6.15.17//NONSGML v1.0//EN
CALSCALE:GREGORIAN
METHOD:PUBLISH
X-ORIGINAL-URL:https://20fathoms.org
X-WR-CALDESC:Events for 20Fathoms
REFRESH-INTERVAL;VALUE=DURATION:PT1H
X-Robots-Tag:noindex
X-PUBLISHED-TTL:PT1H
BEGIN:VTIMEZONE
TZID:America/Detroit
BEGIN:DAYLIGHT
TZOFFSETFROM:-0500
TZOFFSETTO:-0400
TZNAME:EDT
DTSTART:20250309T070000
END:DAYLIGHT
BEGIN:STANDARD
TZOFFSETFROM:-0400
TZOFFSETTO:-0500
TZNAME:EST
DTSTART:20251102T060000
END:STANDARD
BEGIN:DAYLIGHT
TZOFFSETFROM:-0500
TZOFFSETTO:-0400
TZNAME:EDT
DTSTART:20260308T070000
END:DAYLIGHT
BEGIN:STANDARD
TZOFFSETFROM:-0400
TZOFFSETTO:-0500
TZNAME:EST
DTSTART:20261101T060000
END:STANDARD
BEGIN:DAYLIGHT
TZOFFSETFROM:-0500
TZOFFSETTO:-0400
TZNAME:EDT
DTSTART:20270314T070000
END:DAYLIGHT
BEGIN:STANDARD
TZOFFSETFROM:-0400
TZOFFSETTO:-0500
TZNAME:EST
DTSTART:20271107T060000
END:STANDARD
END:VTIMEZONE
BEGIN:VEVENT
DTSTART;TZID=America/Detroit:20260424T130000
DTEND;TZID=America/Detroit:20260424T150000
DTSTAMP:20260424T092653
CREATED:20260304T183308Z
LAST-MODIFIED:20260319T201805Z
UID:10000762-1777035600-1777042800@20fathoms.org
SUMMARY:Northern Michigan Startup Week Wrap Party
DESCRIPTION:Celebrate NMSW on Old Mission Peninsula with food\, drinks\, and one last toast to Northern Michigan innovation\n\n\nWe built.\nWe pitched.\nWe learned.\nWe connected. \nNow? We celebrate! \nJoin us for the official close of Northern Michigan Startup Week — a laid-back\, joy-filled gathering at Seven Hills on the Old Mission Peninsula\, surrounded by cherry orchards\, vineyards\, and the views that make this region so special. \nThere’s no formal program.\nNo panels.\nNo pitches. \nJust good people\, good food\, good drinks — and a chance to exhale after a big week. \nWhether you’re heading back downstate\, back to your office\, or straight into weekend mode\, this is your moment to: \n\nToast the founders who took bold swings\nSwap final business cards and solidify new connections\nSoak in the beauty of Northern Michigan’s creative and entrepreneurial community\nCelebrate what we’re building together\n\nWe’ll have food\, drinks\, and a few fun surprises to send you into the weekend on a high note. The first 50 attendees will receive a 20Fathoms beanie! \nStartup Week ends the way it should: together. \nAbout 20Fathoms \nBased in Traverse City\, 20Fathoms is a nonprofit organization and the hub for entrepreneurship and innovation in Northwest Michigan. The 20Fathoms team works with entrepreneurs of all stages and industries\, and also offers specialized services to meet the unique needs of technology-focused startups. Programs include startup education\, business coaching\, TCNewTech pitch competitions\, access to capital\, a vibrant coworking space\, and general resources and support. For more information visit: https://20fathoms.org/
URL:https://20fathoms.org/event/northern-michigan-startup-week-wrap-party/
LOCATION:Seven Hills\, 13795 Seven Hills Road\, Traverse City\, MI\, 49686\, United States
CATEGORIES:Networking,Northern MIchigan Startup Week
ATTACH;FMTTYPE=image/jpeg:https://20fathoms.org/wp-content/uploads/2026/03/Wrap-Party-2.jpg
END:VEVENT
END:VCALENDAR